BEGIN:VCALENDAR
VERSION:2.0
PRODID:-//UwU Con - ECPv6.15.20//NONSGML v1.0//EN
CALSCALE:GREGORIAN
METHOD:PUBLISH
X-WR-CALNAME:UwU Con
X-ORIGINAL-URL:https://uwucon.com
X-WR-CALDESC:Events for UwU Con
REFRESH-INTERVAL;VALUE=DURATION:PT1H
X-Robots-Tag:noindex
X-PUBLISHED-TTL:PT1H
BEGIN:VTIMEZONE
TZID:America/Chicago
BEGIN:DAYLIGHT
TZOFFSETFROM:-0600
TZOFFSETTO:-0500
TZNAME:CDT
DTSTART:20240310T080000
END:DAYLIGHT
BEGIN:STANDARD
TZOFFSETFROM:-0500
TZOFFSETTO:-0600
TZNAME:CST
DTSTART:20241103T070000
END:STANDARD
BEGIN:DAYLIGHT
TZOFFSETFROM:-0600
TZOFFSETTO:-0500
TZNAME:CDT
DTSTART:20250309T080000
END:DAYLIGHT
BEGIN:STANDARD
TZOFFSETFROM:-0500
TZOFFSETTO:-0600
TZNAME:CST
DTSTART:20251102T070000
END:STANDARD
BEGIN:DAYLIGHT
TZOFFSETFROM:-0600
TZOFFSETTO:-0500
TZNAME:CDT
DTSTART:20260308T080000
END:DAYLIGHT
BEGIN:STANDARD
TZOFFSETFROM:-0500
TZOFFSETTO:-0600
TZNAME:CST
DTSTART:20261101T070000
END:STANDARD
END:VTIMEZONE
BEGIN:VTIMEZONE
TZID:UTC
BEGIN:STANDARD
TZOFFSETFROM:+0000
TZOFFSETTO:+0000
TZNAME:UTC
DTSTART:20240101T000000
END:STANDARD
END:VTIMEZONE
BEGIN:VEVENT
DTSTART;TZID=America/Chicago:20251017T173000
DTEND;TZID=America/Chicago:20251017T180000
DTSTAMP:20260424T182445
CREATED:20250731T225523Z
LAST-MODIFIED:20251004T222405Z
UID:2426-1760722200-1760724000@uwucon.com
SUMMARY:Opening Ceremonies
DESCRIPTION:Join CosTalk LIVE for UwU Con’s 2025 Opening Ceremonies on the Festival Stage! \nLOCATION: Idol Stage
URL:https://uwucon.com/event/opening-ceremonies/
LOCATION:Main Stage\, Building B
CATEGORIES:Day 1,UwU Idol Stage
ATTACH;FMTTYPE=image/jpeg:https://uwucon.com/wp-content/uploads/2025/07/Purple-Black-Neon-Coming-Soon-Video.jpg
ORGANIZER;CN="CosTalk Live":MAILTO:costalklive@gmail.com
END:VEVENT
BEGIN:VEVENT
DTSTART;TZID=UTC:20251017T170000
DTEND;TZID=UTC:20251017T220000
DTSTAMP:20260424T182445
CREATED:20250715T033452Z
LAST-MODIFIED:20251008T205256Z
UID:2257-1760720400-1760738400@uwucon.com
SUMMARY:Cosplay Village (Badge Required)
DESCRIPTION:Check out our AMAZING cosplay groups and take pictures with your favorite heroes / villains! \nFeatured Cosplay Groups: \n\nCosTalk LIVE\nMando Misfits\nArizona Causeplay\nNew Arizona Republic (NAR)\nAZ HIVE\nAZ Photo Meetups (AZPM)\nCosplay Hospital\nTwisted AZ\nThe Arizona Morphin Grid\nVery Awesome Girls Phoenix\n\nFeatured Podcasters: \n\nAge of Radio\nConAir Radio\n\nLOCATION: Convention Center Indoor Causeway and Build B Hallway
URL:https://uwucon.com/event/cosplay-village/
LOCATION:Cosplay Village\, Building B
CATEGORIES:Day 1
ATTACH;FMTTYPE=image/jpeg:https://uwucon.com/wp-content/uploads/2018/05/UwU2025.jpg
ORGANIZER;CN="CosTalk Live":MAILTO:costalklive@gmail.com
END:VEVENT
BEGIN:VEVENT
DTSTART;TZID=America/Chicago:20251017T170000
DTEND;TZID=America/Chicago:20251017T210000
DTSTAMP:20260424T182445
CREATED:20250731T231929Z
LAST-MODIFIED:20250906T203412Z
UID:2430-1760720400-1760734800@uwucon.com
SUMMARY:CosSwap Mart
DESCRIPTION:CosTalk LIVE is hosting their annual CosSwap Mart on the lawn of the UwU Con 2025 Friday Night Festival! \nApplications are LIVE but space is limited so be sure to sign up ASAP! \nWHAT IS COSSWAP? \nCosSwap is a pop up sellers market for gently used cosplays\, manga\, comics\, figurines\, props and similar geeky items. In the words of some very infamous moon sugar obsessed denizens\, “These ones sees you have much coin!”. So come on by and see what’s up for grabs! \nLOCATION: Outdoor Festival
URL:https://uwucon.com/event/cosswap-mart/
LOCATION:Mesa Convention Center\, 263 N. Center Street\, Mesa\, AZ\, 85201\, United States
CATEGORIES:Day 1
ATTACH;FMTTYPE=image/png:https://uwucon.com/wp-content/uploads/2025/07/COSTALKLIVELOGO.png
ORGANIZER;CN="CosTalk Live":MAILTO:costalklive@gmail.com
END:VEVENT
BEGIN:VEVENT
DTSTART;TZID=America/Chicago:20251017T170000
DTEND;TZID=America/Chicago:20251017T200000
DTSTAMP:20260424T182445
CREATED:20250930T060433Z
LAST-MODIFIED:20251001T142016Z
UID:2928-1760720400-1760731200@uwucon.com
SUMMARY:Signature Hall Open (Badge Required)
DESCRIPTION:Early access to some of this years talented Voice Actors on Friday evening…Full Event and VIP Badge holders can get a head start on those signatures!
URL:https://uwucon.com/event/signature-hall-open-badge-required/
LOCATION:Signature Hall\, Hotel Ballroom
CATEGORIES:Day 1,Show Hours
ATTACH;FMTTYPE=image/jpeg:https://uwucon.com/wp-content/uploads/2025/06/UwUSingAlongs.jpg
ORGANIZER;CN="CosTalk Live":MAILTO:costalklive@gmail.com
END:VEVENT
BEGIN:VEVENT
DTSTART;TZID=America/Chicago:20251017T170000
DTEND;TZID=America/Chicago:20251017T170000
DTSTAMP:20260424T182445
CREATED:20180522T081954Z
LAST-MODIFIED:20251017T053932Z
UID:414-1760720400-1760720400@uwucon.com
SUMMARY:UwU Con Begins
DESCRIPTION:UwU Con has a brand new format—and we’re getting the party started on Friday evening with our Courtyard Kick-off! \nOutside in the courtyard starting at 5 PM\, you can pick up your badges\, enjoy the return of our Food District\, take in some entertainment on our UwU Idol Stage\, and check out some cool cars! No badges are required to participate in the activities outside in the courtyard! \nFor Full Event or VIP badge holders: Enjoy exclusive\, early access to our Signature Hall on Friday night! In addition to all the activities happening outside in the courtyard\, Full Event and VIP badge holders can also meet and purchase signatures/photos from our celebrity guests in the Signature Hall\, attend new singalong panels (general and 18+)\, and participate in our indoor Cosplay Village. \n*Please note the Vendor Hall will be closed on Friday and will be open on Saturday & Sunday only!\nVendor Hall hours are Saturday from 10 AM – 8 PM (VIP badges get 9 AM early entry) and Sunday from 10 AM – 6 PM (VIP badges get 9 AM early entry).
URL:https://uwucon.com/event/uwu-con-begins/
LOCATION:Mesa Convention Center\, 263 N. Center Street\, Mesa\, AZ\, 85201\, United States
CATEGORIES:Day 1,Show Hours
ATTACH;FMTTYPE=image/jpeg:https://uwucon.com/wp-content/uploads/2018/05/UwU2025.jpg
ORGANIZER;CN="UwU Con":MAILTO:info@uwucon.com
END:VEVENT
END:VCALENDAR